BEGIN:VCALENDAR
VERSION:2.0
PRODID:-//Canton Akron Safety Council - ECPv6.15.18//NONSGML v1.0//EN
CALSCALE:GREGORIAN
METHOD:PUBLISH
X-WR-CALNAME:Canton Akron Safety Council
X-ORIGINAL-URL:https://caksafety.com
X-WR-CALDESC:Events for Canton Akron Safety Council
REFRESH-INTERVAL;VALUE=DURATION:PT1H
X-Robots-Tag:noindex
X-PUBLISHED-TTL:PT1H
BEGIN:VTIMEZONE
TZID:America/New_York
BEGIN:DAYLIGHT
TZOFFSETFROM:-0500
TZOFFSETTO:-0400
TZNAME:EDT
DTSTART:20250309T070000
END:DAYLIGHT
BEGIN:STANDARD
TZOFFSETFROM:-0400
TZOFFSETTO:-0500
TZNAME:EST
DTSTART:20251102T060000
END:STANDARD
BEGIN:DAYLIGHT
TZOFFSETFROM:-0500
TZOFFSETTO:-0400
TZNAME:EDT
DTSTART:20260308T070000
END:DAYLIGHT
BEGIN:STANDARD
TZOFFSETFROM:-0400
TZOFFSETTO:-0500
TZNAME:EST
DTSTART:20261101T060000
END:STANDARD
BEGIN:DAYLIGHT
TZOFFSETFROM:-0500
TZOFFSETTO:-0400
TZNAME:EDT
DTSTART:20270314T070000
END:DAYLIGHT
BEGIN:STANDARD
TZOFFSETFROM:-0400
TZOFFSETTO:-0500
TZNAME:EST
DTSTART:20271107T060000
END:STANDARD
END:VTIMEZONE
BEGIN:VEVENT
DTSTART;TZID=America/New_York:20260527T073000
DTEND;TZID=America/New_York:20260527T090000
DTSTAMP:20260425T114343
CREATED:20260402T122037Z
LAST-MODIFIED:20260415T134536Z
UID:2932-1779867000-1779872400@caksafety.com
SUMMARY:May - Monthly Meeting
DESCRIPTION:Topic TBD
URL:https://caksafety.com/event/may-monthly-meeting/
LOCATION:Map Air Museum\, 2260 International Parkway\, North Canton\, 44720\, United States
END:VEVENT
BEGIN:VEVENT
DTSTART;TZID=America/New_York:20260422T073000
DTEND;TZID=America/New_York:20260422T090000
DTSTAMP:20260425T114343
CREATED:20260331T135230Z
LAST-MODIFIED:20260415T134559Z
UID:2796-1776843000-1776848400@caksafety.com
SUMMARY:April - Monthly Meeting
DESCRIPTION:Topic – Human Trafficking
URL:https://caksafety.com/event/human-trafficking/
LOCATION:Map Air Museum\, 2260 International Parkway\, North Canton\, 44720\, United States
END:VEVENT
END:VCALENDAR