BEGIN:VCALENDAR
VERSION:2.0
PRODID:-//Canton Akron Safety Council - ECPv6.15.18//NONSGML v1.0//EN
CALSCALE:GREGORIAN
METHOD:PUBLISH
X-ORIGINAL-URL:https://caksafety.com
X-WR-CALDESC:Events for Canton Akron Safety Council
REFRESH-INTERVAL;VALUE=DURATION:PT1H
X-Robots-Tag:noindex
X-PUBLISHED-TTL:PT1H
BEGIN:VTIMEZONE
TZID:America/New_York
BEGIN:DAYLIGHT
TZOFFSETFROM:-0500
TZOFFSETTO:-0400
TZNAME:EDT
DTSTART:20250309T070000
END:DAYLIGHT
BEGIN:STANDARD
TZOFFSETFROM:-0400
TZOFFSETTO:-0500
TZNAME:EST
DTSTART:20251102T060000
END:STANDARD
BEGIN:DAYLIGHT
TZOFFSETFROM:-0500
TZOFFSETTO:-0400
TZNAME:EDT
DTSTART:20260308T070000
END:DAYLIGHT
BEGIN:STANDARD
TZOFFSETFROM:-0400
TZOFFSETTO:-0500
TZNAME:EST
DTSTART:20261101T060000
END:STANDARD
BEGIN:DAYLIGHT
TZOFFSETFROM:-0500
TZOFFSETTO:-0400
TZNAME:EDT
DTSTART:20270314T070000
END:DAYLIGHT
BEGIN:STANDARD
TZOFFSETFROM:-0400
TZOFFSETTO:-0500
TZNAME:EST
DTSTART:20271107T060000
END:STANDARD
END:VTIMEZONE
BEGIN:VEVENT
DTSTART;TZID=America/New_York:20260624T073000
DTEND;TZID=America/New_York:20260624T090000
DTSTAMP:20260425T082920
CREATED:20260402T122123Z
LAST-MODIFIED:20260415T134459Z
UID:2934-1782286200-1782291600@caksafety.com
SUMMARY:June - Monthly Meeting
DESCRIPTION:Topic TBD
URL:https://caksafety.com/event/june-monthly-meeting/
LOCATION:Map Air Museum\, 2260 International Parkway\, North Canton\, 44720\, United States
END:VEVENT
END:VCALENDAR